BEGIN:VCALENDAR
VERSION:2.0
PRODID:-//Jeff Spiegelman | 11th Representative District - ECPv5.0.2.1//NONSGML v1.0//EN
CALSCALE:GREGORIAN
METHOD:PUBLISH
X-WR-CALNAME:Jeff Spiegelman | 11th Representative District
X-ORIGINAL-URL:http://www.jeffderepresentative.com
X-WR-CALDESC:Events for Jeff Spiegelman | 11th Representative District
BEGIN:VTIMEZONE
TZID:America/Halifax
BEGIN:DAYLIGHT
TZOFFSETFROM:-0400
TZOFFSETTO:-0300
TZNAME:ADT
DTSTART:20140309T060000
END:DAYLIGHT
BEGIN:STANDARD
TZOFFSETFROM:-0300
TZOFFSETTO:-0400
TZNAME:AST
DTSTART:20141102T050000
END:STANDARD
END:VTIMEZONE
BEGIN:VEVENT
DTSTART;TZID=America/Halifax:20140824T080000
DTEND;TZID=America/Halifax:20140824T110000
DTSTAMP:20260420T024955
CREATED:20140824T120039Z
LAST-MODIFIED:20140824T113816Z
UID:1063-1408867200-1408878000@www.jeffderepresentative.com
SUMMARY:Back-to-school breakfast
DESCRIPTION:*Date Change* \nSunday 8/24 is the Hartly Fire Co’s annual back-to-school breakfast.  Best bacon in Kent County? \n
URL:http://www.jeffderepresentative.com/event/back-school-breakfast/
END:VEVENT
END:VCALENDAR