BEGIN:VCALENDAR
VERSION:2.0
PRODID:-//Jeff Spiegelman | 11th Representative District - ECPv5.0.2.1//NONSGML v1.0//EN
CALSCALE:GREGORIAN
METHOD:PUBLISH
X-WR-CALNAME:Jeff Spiegelman | 11th Representative District
X-ORIGINAL-URL:http://www.jeffderepresentative.com
X-WR-CALDESC:Events for Jeff Spiegelman | 11th Representative District
BEGIN:VTIMEZONE
TZID:America/Halifax
BEGIN:DAYLIGHT
TZOFFSETFROM:-0400
TZOFFSETTO:-0300
TZNAME:ADT
DTSTART:20140309T060000
END:DAYLIGHT
BEGIN:STANDARD
TZOFFSETFROM:-0300
TZOFFSETTO:-0400
TZNAME:AST
DTSTART:20141102T050000
END:STANDARD
END:VTIMEZONE
BEGIN:VEVENT
DTSTART;TZID=America/Halifax:20140820T120000
DTEND;TZID=America/Halifax:20140820T130000
DTSTAMP:20260420T042152
CREATED:20140817T221752Z
LAST-MODIFIED:20140817T222101Z
UID:1060-1408536000-1408539600@www.jeffderepresentative.com
SUMMARY:Ice Cream Social!
DESCRIPTION:Please join me for our Ice Cream Social on Wednesday (August 20th) at Mamie A Warren Senior Center between 12-noon and 1:00 p.m. We appreciate Mamie Warren for their generosity in providing and serving the ice cream. It’s always a nice\, refreshing treat\, especially in the summer! Hope to see you there. Bring any questions or concerns about a district or legislative matter you may have\, too \n
URL:http://www.jeffderepresentative.com/event/ice-cream-social/
END:VEVENT
END:VCALENDAR