BEGIN:VCALENDAR
VERSION:2.0
PRODID:-//Jeff Spiegelman | 11th Representative District - ECPv5.0.2.1//NONSGML v1.0//EN
CALSCALE:GREGORIAN
METHOD:PUBLISH
X-WR-CALNAME:Jeff Spiegelman | 11th Representative District
X-ORIGINAL-URL:http://www.jeffderepresentative.com
X-WR-CALDESC:Events for Jeff Spiegelman | 11th Representative District
BEGIN:VTIMEZONE
TZID:America/Halifax
BEGIN:DAYLIGHT
TZOFFSETFROM:-0400
TZOFFSETTO:-0300
TZNAME:ADT
DTSTART:20140309T060000
END:DAYLIGHT
BEGIN:STANDARD
TZOFFSETFROM:-0300
TZOFFSETTO:-0400
TZNAME:AST
DTSTART:20141102T050000
END:STANDARD
END:VTIMEZONE
BEGIN:VEVENT
DTSTART;TZID=America/Halifax:20140908T190000
DTEND;TZID=America/Halifax:20140908T200000
DTSTAMP:20260419T132820
CREATED:20140908T121340Z
LAST-MODIFIED:20140908T121340Z
UID:1084-1410202800-1410206400@www.jeffderepresentative.com
SUMMARY:Middletown Town Council Meeting
DESCRIPTION:
URL:http://www.jeffderepresentative.com/event/middletown-town-council-meeting/
END:VEVENT
END:VCALENDAR