BEGIN:VCALENDAR
VERSION:2.0
PRODID:-//Jeff Spiegelman | 11th Representative District - ECPv5.0.2.1//NONSGML v1.0//EN
CALSCALE:GREGORIAN
METHOD:PUBLISH
X-WR-CALNAME:Jeff Spiegelman | 11th Representative District
X-ORIGINAL-URL:http://www.jeffderepresentative.com
X-WR-CALDESC:Events for Jeff Spiegelman | 11th Representative District
BEGIN:VTIMEZONE
TZID:America/Halifax
BEGIN:DAYLIGHT
TZOFFSETFROM:-0400
TZOFFSETTO:-0300
TZNAME:ADT
DTSTART:20140309T060000
END:DAYLIGHT
BEGIN:STANDARD
TZOFFSETFROM:-0300
TZOFFSETTO:-0400
TZNAME:AST
DTSTART:20141102T050000
END:STANDARD
END:VTIMEZONE
BEGIN:VEVENT
DTSTART;TZID=America/Halifax:20140826T120000
DTEND;TZID=America/Halifax:20140826T150000
DTSTAMP:20260420T024540
CREATED:20140824T163205Z
LAST-MODIFIED:20140824T163205Z
UID:1072-1409054400-1409065200@www.jeffderepresentative.com
SUMMARY:Tuesday Door Knocking
DESCRIPTION:Door knocking in the 11th district.  No experience necessary.  Please email or call Jeff for more details.  jeff@jeffderepresentative.com or 302-399-7728 \nJoin us anytime \n
URL:http://www.jeffderepresentative.com/event/tuesday-door-knocking/
END:VEVENT
END:VCALENDAR